BEGIN:VCALENDAR
VERSION:2.0
PRODID:-//CuriOdyssey - ECPv6.15.4//NONSGML v1.0//EN
CALSCALE:GREGORIAN
METHOD:PUBLISH
X-ORIGINAL-URL:https://curiodyssey.org
X-WR-CALDESC:Events for CuriOdyssey
REFRESH-INTERVAL;VALUE=DURATION:PT1H
X-Robots-Tag:noindex
X-PUBLISHED-TTL:PT1H
BEGIN:VTIMEZONE
TZID:America/Los_Angeles
BEGIN:DAYLIGHT
TZOFFSETFROM:-0800
TZOFFSETTO:-0700
TZNAME:PDT
DTSTART:20230312T100000
END:DAYLIGHT
BEGIN:STANDARD
TZOFFSETFROM:-0700
TZOFFSETTO:-0800
TZNAME:PST
DTSTART:20231105T090000
END:STANDARD
BEGIN:DAYLIGHT
TZOFFSETFROM:-0800
TZOFFSETTO:-0700
TZNAME:PDT
DTSTART:20240310T100000
END:DAYLIGHT
BEGIN:STANDARD
TZOFFSETFROM:-0700
TZOFFSETTO:-0800
TZNAME:PST
DTSTART:20241103T090000
END:STANDARD
END:VTIMEZONE
BEGIN:VEVENT
DTSTART;TZID=America/Los_Angeles:20240720T090000
DTEND;TZID=America/Los_Angeles:20240720T220000
DTSTAMP:20260421T015547
CREATED:20240725T230406Z
LAST-MODIFIED:20250215T000041Z
UID:10000316-1721466000-1721512800@curiodyssey.org
SUMMARY:Member Morning
DESCRIPTION:This August 23\, join us for a Member Morning that celebrates all things conservation! Get a sneak peek at our upcoming conservation projects\, skip the crowds\, and enjoy a complimentary breakfast of bagels\, muffins\, juice\, and coffee. Your RSVP is requested by August 19. We look forward to seeing you there!
URL:https://curiodyssey.org/event/member-morning-2/2024-07-20/
LOCATION:CuriOdyssey\, 1651 Coyote Point Dr\, San Mateo\, CA\, 94401\, United States
CATEGORIES:Special Event
ATTACH;FMTTYPE=image/png:https://curiodyssey.org/wp-content/uploads/2024/07/august-memeber-morning1.png
END:VEVENT
BEGIN:VEVENT
DTSTART;TZID=America/Los_Angeles:20240720T090000
DTEND;TZID=America/Los_Angeles:20240720T100000
DTSTAMP:20260421T015547
CREATED:20240524T235943Z
LAST-MODIFIED:20250215T000041Z
UID:10000289-1721466000-1721469600@curiodyssey.org
SUMMARY:Member Morning
DESCRIPTION:Join us for exclusive member-only hours this June 15 and July 20! Skip the crowds\, get mechanical at Kinetic Creations\, and enjoy a complimentary breakfast of bagels\, muffins\, juice\, and coffee. Your RSVP is requested by the dates below to ensure we are providing the correct amount of food as part of the breakfast. We look forward to seeing you there! \nJune 15 (RSVP requested by June 10)\nJuly 20 (RSVP requested by July 12)
URL:https://curiodyssey.org/event/member-morning/2024-07-20/
LOCATION:CuriOdyssey\, 1651 Coyote Point Dr\, San Mateo\, CA\, 94401\, United States
CATEGORIES:Special Event
ATTACH;FMTTYPE=image/jpeg:https://curiodyssey.org/wp-content/uploads/2024/05/member-morning-banner-5.28.24-corrected.jpg
END:VEVENT
BEGIN:VEVENT
DTSTART;TZID=America/Los_Angeles:20240615T090000
DTEND;TZID=America/Los_Angeles:20240615T100000
DTSTAMP:20260421T015547
CREATED:20240524T235943Z
LAST-MODIFIED:20250215T000041Z
UID:10000288-1718442000-1718445600@curiodyssey.org
SUMMARY:Member Morning
DESCRIPTION:Join us for exclusive member-only hours this June 15 and July 20! Skip the crowds\, get mechanical at Kinetic Creations\, and enjoy a complimentary breakfast of bagels\, muffins\, juice\, and coffee. Your RSVP is requested by the dates below to ensure we are providing the correct amount of food as part of the breakfast. We look forward to seeing you there! \nJune 15 (RSVP requested by June 10)\nJuly 20 (RSVP requested by July 12)
URL:https://curiodyssey.org/event/member-morning/2024-06-15/
LOCATION:CuriOdyssey\, 1651 Coyote Point Dr\, San Mateo\, CA\, 94401\, United States
CATEGORIES:Special Event
ATTACH;FMTTYPE=image/jpeg:https://curiodyssey.org/wp-content/uploads/2024/05/member-morning-banner-5.28.24-corrected.jpg
END:VEVENT
BEGIN:VEVENT
DTSTART;TZID=America/Los_Angeles:20240428T100000
DTEND;TZID=America/Los_Angeles:20240428T170000
DTSTAMP:20260421T015547
CREATED:20240229T201337Z
LAST-MODIFIED:20240419T201704Z
UID:10000256-1714298400-1714323600@curiodyssey.org
SUMMARY:Puzzling Perceptions Final Day
DESCRIPTION:Explore the unexpected at Puzzling Perceptions! \n\n\n\n\n\n\n\n\n\n\n\n\n\n\n\n\n\n\nMarch 16 – April 21\, 2024 \n\n\n\n\n\n\n\n\n\nBamboozle your brain and surprise your sense of sight\, touch\, and hearing at our upcoming exhibition\, Puzzling Perceptions! Kids and adults alike will get hands on as they play with pitch\, explore optical illusions\, and delight in perplexing sensations of temperature or texture. They say curiosity killed the cat\, but at Puzzling Perceptions\, we know scientific satisfaction will bring you back! This one-time exhibit will run from March 16 through April 21\, 2024.
URL:https://curiodyssey.org/event/puzzling-perceptions-final-day/
LOCATION:CuriOdyssey\, 1651 Coyote Point Dr\, San Mateo\, CA\, 94401\, United States
ATTACH;FMTTYPE=image/jpeg:https://curiodyssey.org/wp-content/uploads/2024/02/Newsletter-graphics-3.jpg
END:VEVENT
BEGIN:VEVENT
DTSTART;TZID=America/Los_Angeles:20240425T000000
DTEND;TZID=America/Los_Angeles:20240425T235959
DTSTAMP:20260421T015547
CREATED:20240216T200519Z
LAST-MODIFIED:20240411T234645Z
UID:10000280-1714003200-1714089599@curiodyssey.org
SUMMARY:Open Hours 10 AM – 12 PM
DESCRIPTION:Closing early for staff development
URL:https://curiodyssey.org/event/reduced-public-hours-202404/
LOCATION:CuriOdyssey\, 1651 Coyote Point Dr\, San Mateo\, CA\, 94401\, United States
CATEGORIES:Special Hours
END:VEVENT
BEGIN:VEVENT
DTSTART;TZID=America/Los_Angeles:20240424T000000
DTEND;TZID=America/Los_Angeles:20240424T235959
DTSTAMP:20260421T015547
CREATED:20240411T233732Z
LAST-MODIFIED:20240411T234751Z
UID:10000244-1713916800-1714003199@curiodyssey.org
SUMMARY:Open Hours 10 AM – 12 PM
DESCRIPTION:Closing early for staff development
URL:https://curiodyssey.org/event/reduced-public-hours-4/
LOCATION:CuriOdyssey\, 1651 Coyote Point Dr\, San Mateo\, CA\, 94401\, United States
CATEGORIES:Special Hours
END:VEVENT
BEGIN:VEVENT
DTSTART;TZID=America/Los_Angeles:20240421T110000
DTEND;TZID=America/Los_Angeles:20240421T150000
DTSTAMP:20260421T015547
CREATED:20240322T000426Z
LAST-MODIFIED:20240418T205741Z
UID:10000273-1713697200-1713711600@curiodyssey.org
SUMMARY:Earth Day Celebration at CuriOdyssey
DESCRIPTION:Come join us for an Earth Day celebration on Sunday\, April 21\, 2024! Enjoy music and tasty food from Satay on the Bay and Mozzeria\, try out eco-activities for kids of all ages\, and learn more about conservation at CuriOdyssey as we celebrate our amazing planet and learn more about how to come together to take better care of the world around us. \n\n\n\n\n\n\n\n\n\n\n\n\n\n\n\nGet Tickets
URL:https://curiodyssey.org/event/earth-day-celebration-at-curiodyssey/
LOCATION:CuriOdyssey\, 1651 Coyote Point Dr\, San Mateo\, CA\, 94401\, United States
CATEGORIES:Special Event
ATTACH;FMTTYPE=image/jpeg:https://curiodyssey.org/wp-content/uploads/2024/03/field-trip-kids942x686.jpg
END:VEVENT
BEGIN:VEVENT
DTSTART;TZID=America/Los_Angeles:20240317T000000
DTEND;TZID=America/Los_Angeles:20240317T235959
DTSTAMP:20260421T015547
CREATED:20240314T205944Z
LAST-MODIFIED:20240314T210157Z
UID:10000268-1710633600-1710719999@curiodyssey.org
SUMMARY:Reduced Public Hours: Open 10AM–1PM
DESCRIPTION:CuriOdyssey will close early in preparation for our Sensory Sunday event.
URL:https://curiodyssey.org/event/reduced-public-hours-20240317-2/
LOCATION:CuriOdyssey\, 1651 Coyote Point Dr\, San Mateo\, CA\, 94401\, United States
CATEGORIES:Special Hours
END:VEVENT
BEGIN:VEVENT
DTSTART;TZID=America/Los_Angeles:20240316T100000
DTEND;TZID=America/Los_Angeles:20240316T170000
DTSTAMP:20260421T015547
CREATED:20240229T201558Z
LAST-MODIFIED:20240229T201601Z
UID:10000257-1710583200-1710608400@curiodyssey.org
SUMMARY:Puzzling Perceptions Opens
DESCRIPTION:Explore the unexpected at Puzzling Perceptions! \n\n\n\n\n\n\n\n\n\n\n\n\n\n\n\n\n\n\n\n\n\nBamboozle your brain and surprise your sense of sight\, touch\, and hearing at our upcoming exhibition\, Puzzling Perceptions! Kids and adults alike will get hands on as they play with pitch\, explore optical illusions\, and delight in perplexing sensations of temperature or texture. They say curiosity killed the cat\, but at Puzzling Perceptions\, we know scientific satisfaction will bring you back! This one-time exhibit will run from March 16 through April 21\, 2024.
URL:https://curiodyssey.org/event/puzzling-perceptions-opens/
LOCATION:CuriOdyssey\, 1651 Coyote Point Dr\, San Mateo\, CA\, 94401\, United States
ATTACH;FMTTYPE=image/jpeg:https://curiodyssey.org/wp-content/uploads/2024/02/Newsletter-graphics-3.jpg
END:VEVENT
BEGIN:VEVENT
DTSTART;TZID=America/Los_Angeles:20240314T000000
DTEND;TZID=America/Los_Angeles:20240314T235959
DTSTAMP:20260421T015547
CREATED:20240314T191723Z
LAST-MODIFIED:20240314T204921Z
UID:10000264-1710374400-1710460799@curiodyssey.org
SUMMARY:Reduced Public Hours: Open 10AM–12PM
DESCRIPTION:CuriOdyssey closed early due to weather conditions at Coyote Point. 
URL:https://curiodyssey.org/event/reduced-public-hours-3/
LOCATION:CuriOdyssey\, 1651 Coyote Point Dr\, San Mateo\, CA\, 94401\, United States
CATEGORIES:Special Hours
END:VEVENT
BEGIN:VEVENT
DTSTART;TZID=America/Los_Angeles:20240201T000000
DTEND;TZID=America/Los_Angeles:20240201T235959
DTSTAMP:20260421T015547
CREATED:20240201T011134Z
LAST-MODIFIED:20240202T182913Z
UID:10000238-1706745600-1706831999@curiodyssey.org
SUMMARY:Weather Closure
DESCRIPTION:In coordination with San Mateo County Parks\, the upper portion of Coyote Point\, including CuriOdyssey and its parking lot\, will be closed on Thursday\, February 1 due to yesterday’s storm.
URL:https://curiodyssey.org/event/weather-closure-2/
LOCATION:CuriOdyssey\, 1651 Coyote Point Dr\, San Mateo\, CA\, 94401\, United States
CATEGORIES:Special Hours
END:VEVENT
BEGIN:VEVENT
DTSTART;TZID=America/Los_Angeles:20240131T000000
DTEND;TZID=America/Los_Angeles:20240131T235959
DTSTAMP:20260421T015547
CREATED:20240130T185836Z
LAST-MODIFIED:20240131T171326Z
UID:10000237-1706659200-1706745599@curiodyssey.org
SUMMARY:Weather Closure
DESCRIPTION:In coordination with San Mateo County Parks\, the upper portion of Coyote Point\, including CuriOdyssey and its parking lot\, will be closed on Wednesday\, January 31 due to the expected storm.
URL:https://curiodyssey.org/event/weather-closure/
LOCATION:CuriOdyssey\, 1651 Coyote Point Dr\, San Mateo\, CA\, 94401\, United States
CATEGORIES:Special Hours
END:VEVENT
BEGIN:VEVENT
DTSTART;TZID=America/Los_Angeles:20240128T100000
DTEND;TZID=America/Los_Angeles:20240128T170000
DTSTAMP:20260421T015547
CREATED:20231028T060401Z
LAST-MODIFIED:20231117T231113Z
UID:10000196-1706436000-1706461200@curiodyssey.org
SUMMARY:IlluminOdyssey Final Day
DESCRIPTION:Inspired by the science of light\, IlluminOdyssey is an immersive\, interactive installation that will mesmerize kids and adults of all ages*. CuriOdyssey’s four-level Redwood Hall will transform into a glowing forest of science—light your way through a maze of luminous botanical geometry\, play with rainbow refraction and swirling projections\, paint with light on phosphorescent surfaces\, and dance with your shadow. Explore the physical properties of light\, such as photoluminescence\, color\, additive light mixing\, waves\, fluorescence\, fluid dynamics\, subtractive color mixing\, and refraction. \nReturning for its seventh year\, IlluminOdyssey is a fan-favorite for the whole family\, and is free with admission or membership.  \n*Note: This is a darkened hall with a variety of light-based exhibits and artwork. Visitors sensitive to light and sound may be affected.
URL:https://curiodyssey.org/event/illuminodyssey-opens-2/
LOCATION:CuriOdyssey\, 1651 Coyote Point Dr\, San Mateo\, CA\, 94401\, United States
ATTACH;FMTTYPE=image/png:https://curiodyssey.org/wp-content/uploads/2023/10/2023IlluminOdysseyevent.png
END:VEVENT
BEGIN:VEVENT
DTSTART;TZID=America/Los_Angeles:20231110T100000
DTEND;TZID=America/Los_Angeles:20231110T170000
DTSTAMP:20260421T015547
CREATED:20231028T060255Z
LAST-MODIFIED:20251022T234226Z
UID:10000195-1699610400-1699635600@curiodyssey.org
SUMMARY:IlluminOdyssey Opens
DESCRIPTION:Inspired by the science of light\, IlluminOdyssey is an immersive\, interactive installation that will mesmerize kids and adults of all ages*. CuriOdyssey’s four-level Redwood Hall will transform into a glowing forest of science—light your way through a maze of luminous botanical geometry\, play with rainbow refraction and swirling projections\, paint with light on phosphorescent surfaces\, and dance with your shadow. Explore the physical properties of light\, such as photoluminescence\, color\, additive light mixing\, waves\, fluorescence\, fluid dynamics\, subtractive color mixing\, and refraction. \nReturning for its seventh year\, IlluminOdyssey is a fan-favorite for the whole family\, and is free with admission or membership.  \n*Note: This is a darkened hall with a variety of light-based exhibits and artwork. Visitors sensitive to light and sound may be affected.
URL:https://curiodyssey.org/event/illuminodyssey-opens/
LOCATION:CuriOdyssey\, 1651 Coyote Point Dr\, San Mateo\, CA\, 94401\, United States
ATTACH;FMTTYPE=image/png:https://curiodyssey.org/wp-content/uploads/2023/10/2023IlluminOdysseyevent.png
END:VEVENT
END:VCALENDAR