BEGIN:VCALENDAR
VERSION:2.0
PRODID:-//CuriOdyssey - ECPv6.15.4//NONSGML v1.0//EN
CALSCALE:GREGORIAN
METHOD:PUBLISH
X-ORIGINAL-URL:https://curiodyssey.org
X-WR-CALDESC:Events for CuriOdyssey
REFRESH-INTERVAL;VALUE=DURATION:PT1H
X-Robots-Tag:noindex
X-PUBLISHED-TTL:PT1H
BEGIN:VTIMEZONE
TZID:America/Los_Angeles
BEGIN:DAYLIGHT
TZOFFSETFROM:-0800
TZOFFSETTO:-0700
TZNAME:PDT
DTSTART:20250309T100000
END:DAYLIGHT
BEGIN:STANDARD
TZOFFSETFROM:-0700
TZOFFSETTO:-0800
TZNAME:PST
DTSTART:20251102T090000
END:STANDARD
END:VTIMEZONE
BEGIN:VEVENT
DTSTART;TZID=America/Los_Angeles:20251103T100000
DTEND;TZID=America/Los_Angeles:20251103T160000
DTSTAMP:20260424T025853
CREATED:20251103T163001Z
LAST-MODIFIED:20251103T163002Z
UID:10000559-1762164000-1762185600@curiodyssey.org
SUMMARY:Early Closure for Donor Event
DESCRIPTION:
URL:https://curiodyssey.org/event/early-closure-for-donor-event/
LOCATION:CA
CATEGORIES:Special Event,Special Hours
END:VEVENT
BEGIN:VEVENT
DTSTART;TZID=America/Los_Angeles:20251105T153000
DTEND;TZID=America/Los_Angeles:20251105T170000
DTSTAMP:20260424T025853
CREATED:20251106T000721Z
LAST-MODIFIED:20251106T000734Z
UID:10000563-1762356600-1762362000@curiodyssey.org
SUMMARY:Early Closure at 3:30 PM
DESCRIPTION:Due to a power outage\, CuriOdyssey is closed today\, November 5\, 2025. We expect to be open to the public tomorrow\, Thursday\, November 6. \n\n\n\nPlease continue to check our website and social media for the latest safety and closure updates.
URL:https://curiodyssey.org/event/early-closure-at-330-pm/
LOCATION:CA
CATEGORIES:Special Hours
END:VEVENT
BEGIN:VEVENT
DTSTART;TZID=America/Los_Angeles:20251107T170000
DTEND;TZID=America/Los_Angeles:20251107T200000
DTSTAMP:20260424T025853
CREATED:20250225T214051Z
LAST-MODIFIED:20250618T154321Z
UID:10000524-1762534800-1762545600@curiodyssey.org
SUMMARY:First Friday Nights
DESCRIPTION:Come together as a family\, visit early\, and stay late! \n\n\n\nSwing into the weekend with music\, food trucks\, animals\, and fun! On the first Friday of every month\, from 5 pm until 8 pm\, parents and kids celebrate together at CuriOdyssey. \n\n\n\nEnjoying animal presentation\, science activities\, and dance to some of your favorite hits. \n\n\n\n  \n\n\n\n\n\n\n\n\n\n\n\nGet Tickets\n\n\n\n\n\n\n\n 
URL:https://curiodyssey.org/event/first-friday-nights-15/
LOCATION:CA
CATEGORIES:Special Hours
ATTACH;FMTTYPE=image/png:https://curiodyssey.org/wp-content/uploads/2025/02/First-Friday-Event-Calendar-Image.png
END:VEVENT
BEGIN:VEVENT
DTSTART;TZID=America/Los_Angeles:20251112T100000
DTEND;TZID=America/Los_Angeles:20251112T160000
DTSTAMP:20260424T025853
CREATED:20251104T195238Z
LAST-MODIFIED:20251104T195833Z
UID:10000562-1762941600-1762963200@curiodyssey.org
SUMMARY:Early Closure 4 PM
DESCRIPTION:
URL:https://curiodyssey.org/event/early-closure-4-pm/
LOCATION:CA
CATEGORIES:Special Hours
END:VEVENT
BEGIN:VEVENT
DTSTART;TZID=America/Los_Angeles:20251127T000000
DTEND;TZID=America/Los_Angeles:20251127T235959
DTSTAMP:20260424T025853
CREATED:20251124T223336Z
LAST-MODIFIED:20251124T223338Z
UID:10000573-1764201600-1764287999@curiodyssey.org
SUMMARY:Closed for Thanksgiving
DESCRIPTION:
URL:https://curiodyssey.org/event/closed-for-thanksgiving/
LOCATION:CA
CATEGORIES:Special Hours
END:VEVENT
END:VCALENDAR