BEGIN:VCALENDAR
VERSION:2.0
PRODID:-//CuriOdyssey - ECPv6.15.4//NONSGML v1.0//EN
CALSCALE:GREGORIAN
METHOD:PUBLISH
X-WR-CALNAME:CuriOdyssey
X-ORIGINAL-URL:https://curiodyssey.org
X-WR-CALDESC:Events for CuriOdyssey
REFRESH-INTERVAL;VALUE=DURATION:PT1H
X-Robots-Tag:noindex
X-PUBLISHED-TTL:PT1H
BEGIN:VTIMEZONE
TZID:America/Los_Angeles
BEGIN:DAYLIGHT
TZOFFSETFROM:-0800
TZOFFSETTO:-0700
TZNAME:PDT
DTSTART:20250309T100000
END:DAYLIGHT
BEGIN:STANDARD
TZOFFSETFROM:-0700
TZOFFSETTO:-0800
TZNAME:PST
DTSTART:20251102T090000
END:STANDARD
END:VTIMEZONE
BEGIN:VEVENT
DTSTART;TZID=America/Los_Angeles:20250901T100000
DTEND;TZID=America/Los_Angeles:20250901T170000
DTSTAMP:20260424T064141
CREATED:20231122T002808Z
LAST-MODIFIED:20240830T183046Z
UID:10000346-1756720800-1756746000@curiodyssey.org
SUMMARY:Open Labor Day
DESCRIPTION:
URL:https://curiodyssey.org/event/open-labor-day-2024/2025-09-01/
LOCATION:CA
CATEGORIES:Special Hours
END:VEVENT
BEGIN:VEVENT
DTSTART;TZID=America/Los_Angeles:20250905T170000
DTEND;TZID=America/Los_Angeles:20250905T200000
DTSTAMP:20260424T064141
CREATED:20250225T213930Z
LAST-MODIFIED:20250618T154432Z
UID:10000522-1757091600-1757102400@curiodyssey.org
SUMMARY:First Friday Nights
DESCRIPTION:Come together as a family\, visit early\, and stay late! \n\n\n\nSwing into the weekend with music\, food trucks\, animals\, and fun! On the first Friday of every month\, from 5 pm until 8 pm\, parents and kids celebrate together at CuriOdyssey. \n\n\n\nEnjoying animal presentation\, science activities\, and dance to some of your favorite hits. \n\n\n\n  \n\n\n\n\n\n\n\n\n\n\n\nGet Tickets\n\n\n\n\n\n\n\n 
URL:https://curiodyssey.org/event/first-friday-nights-13/
LOCATION:CA
CATEGORIES:Special Hours
ATTACH;FMTTYPE=image/png:https://curiodyssey.org/wp-content/uploads/2025/02/First-Friday-Event-Calendar-Image.png
END:VEVENT
BEGIN:VEVENT
DTSTART;TZID=America/Los_Angeles:20250908T100000
DTEND;TZID=America/Los_Angeles:20250910T170000
DTSTAMP:20260424T064141
CREATED:20250905T031937Z
LAST-MODIFIED:20250905T031939Z
UID:10000549-1757325600-1757523600@curiodyssey.org
SUMMARY:CuriOdyssey Shop Closed for Inventory\, Museum still Open
DESCRIPTION:
URL:https://curiodyssey.org/event/curiodyssey-shop-closed-for-inventory-museum-still-open/
LOCATION:CA
CATEGORIES:Special Hours
END:VEVENT
BEGIN:VEVENT
DTSTART;TZID=America/Los_Angeles:20250914T100000
DTEND;TZID=America/Los_Angeles:20250914T130000
DTSTAMP:20260424T064141
CREATED:20250905T221902Z
LAST-MODIFIED:20250905T221904Z
UID:10000555-1757844000-1757854800@curiodyssey.org
SUMMARY:Open to the Public
DESCRIPTION:Visitors at our Whooosh! Science-in-Action Playground.\n\n\n\nVisitors\, caregivers\, family members\, and aides can join us for an afternoon of:\n\n\n\n\n\n\n\n\n\nExploring the exhibit galleries\, zoo\, and playground\nGuided science activities and Animal Encounters\nVaried sensory experiences with keyed map\nSensory support kits available for use\nStorytime with alternative seating options\nDesignated break spaces with fidget toys\, dimmed lights\, and sitting areas\nFree through the generosity of our sponsors! Complimentary admission is also available for members and their aides.
URL:https://curiodyssey.org/event/open-to-the-public-2/
LOCATION:CuriOdyssey\, 1651 Coyote Point Dr\, San Mateo\, CA\, 94401\, United States
CATEGORIES:Special Hours
ATTACH;FMTTYPE=image/jpeg:https://curiodyssey.org/wp-content/uploads/2024/02/Sensory-Sundays-Banner-2160-×-1080-px-scaled.jpg
END:VEVENT
BEGIN:VEVENT
DTSTART;TZID=America/Los_Angeles:20250914T140000
DTEND;TZID=America/Los_Angeles:20250914T170000
DTSTAMP:20260424T064141
CREATED:20250628T033444Z
LAST-MODIFIED:20250628T033445Z
UID:10000548-1757858400-1757869200@curiodyssey.org
SUMMARY:Sensory Sunday
DESCRIPTION:Visitors at our Whooosh! Science-in-Action Playground.\n\n\n\nVisitors\, caregivers\, family members\, and aides can join us for an afternoon of:\n\n\n\n\n\n\n\n\n\nExploring the exhibit galleries\, zoo\, and playground\nGuided science activities and Animal Encounters\nVaried sensory experiences with keyed map\nSensory support kits available for use\nStorytime with alternative seating options\nDesignated break spaces with fidget toys\, dimmed lights\, and sitting areas\nFree through the generosity of our sponsors! Complimentary admission is also available for members and their aides.
URL:https://curiodyssey.org/event/sensory-sunday-6/
LOCATION:CuriOdyssey\, 1651 Coyote Point Dr\, San Mateo\, CA\, 94401\, United States
CATEGORIES:Special Hours
ATTACH;FMTTYPE=image/jpeg:https://curiodyssey.org/wp-content/uploads/2024/02/Sensory-Sundays-Banner-2160-×-1080-px-scaled.jpg
END:VEVENT
BEGIN:VEVENT
DTSTART;TZID=America/Los_Angeles:20250924T100000
DTEND;TZID=America/Los_Angeles:20250924T120000
DTSTAMP:20260424T064141
CREATED:20250918T213523Z
LAST-MODIFIED:20250918T214107Z
UID:10000553-1758708000-1758715200@curiodyssey.org
SUMMARY:Open 10 AM–12 PM
DESCRIPTION:
URL:https://curiodyssey.org/event/open-10-am-12-pm-for-general-admission/
LOCATION:CA
CATEGORIES:Special Hours
END:VEVENT
BEGIN:VEVENT
DTSTART;TZID=America/Los_Angeles:20250924T120000
DTEND;TZID=America/Los_Angeles:20250924T170000
DTSTAMP:20260424T064141
CREATED:20250905T221146Z
LAST-MODIFIED:20250918T213738Z
UID:10000550-1758715200-1758733200@curiodyssey.org
SUMMARY:Closed 12 PM–5 PM for Staff Training
DESCRIPTION:
URL:https://curiodyssey.org/event/closed-for-staff-training/
LOCATION:CA
CATEGORIES:Special Hours
END:VEVENT
BEGIN:VEVENT
DTSTART;TZID=America/Los_Angeles:20250925T100000
DTEND;TZID=America/Los_Angeles:20250925T120000
DTSTAMP:20260424T064141
CREATED:20250905T221614Z
LAST-MODIFIED:20250918T214057Z
UID:10000554-1758794400-1758801600@curiodyssey.org
SUMMARY:Open 10 AM–12 PM
DESCRIPTION:
URL:https://curiodyssey.org/event/open-to-the-public/
LOCATION:CA
CATEGORIES:Special Hours
END:VEVENT
BEGIN:VEVENT
DTSTART;TZID=America/Los_Angeles:20250925T120000
DTEND;TZID=America/Los_Angeles:20250925T170000
DTSTAMP:20260424T064141
CREATED:20250918T214033Z
LAST-MODIFIED:20250918T214033Z
UID:10000552-1758801600-1758819600@curiodyssey.org
SUMMARY:Closed 12 PM–5 PM for Staff Training
DESCRIPTION:
URL:https://curiodyssey.org/event/closed-12-pm-5-pm-for-staff-training/
LOCATION:CA
CATEGORIES:Special Hours
END:VEVENT
END:VCALENDAR