BEGIN:VCALENDAR
VERSION:2.0
PRODID:-//CuriOdyssey - ECPv6.15.4//NONSGML v1.0//EN
CALSCALE:GREGORIAN
METHOD:PUBLISH
X-WR-CALNAME:CuriOdyssey
X-ORIGINAL-URL:https://curiodyssey.org
X-WR-CALDESC:Events for CuriOdyssey
REFRESH-INTERVAL;VALUE=DURATION:PT1H
X-Robots-Tag:noindex
X-PUBLISHED-TTL:PT1H
BEGIN:VTIMEZONE
TZID:America/Los_Angeles
BEGIN:DAYLIGHT
TZOFFSETFROM:-0800
TZOFFSETTO:-0700
TZNAME:PDT
DTSTART:20250309T100000
END:DAYLIGHT
BEGIN:STANDARD
TZOFFSETFROM:-0700
TZOFFSETTO:-0800
TZNAME:PST
DTSTART:20251102T090000
END:STANDARD
END:VTIMEZONE
BEGIN:VEVENT
DTSTART;TZID=America/Los_Angeles:20250404T170000
DTEND;TZID=America/Los_Angeles:20250404T200000
DTSTAMP:20260424T152401
CREATED:20250225T212843Z
LAST-MODIFIED:20250225T213703Z
UID:10000516-1743786000-1743796800@curiodyssey.org
SUMMARY:First Friday Nights
DESCRIPTION:Come together as a family\, visit early\, and stay late! \n\n\n\nSwing into the weekend with music\, food trucks\, animals\, and fun! On the first Friday of every month\, from 5 pm until 8 pm\, parents and kids celebrate together at CuriOdyssey. \n\n\n\nEnjoying animal presentations\, science activities\, and dance to some of your favorite hits. \n\n\n\n \n\n\n\n\n\n\n\n\n\n\n\nGet Tickets
URL:https://curiodyssey.org/event/first-friday-nights-11/
LOCATION:CA
CATEGORIES:Special Hours
ATTACH;FMTTYPE=image/jpeg:https://curiodyssey.org/wp-content/uploads/2024/08/4.jpg
END:VEVENT
BEGIN:VEVENT
DTSTART;TZID=America/Los_Angeles:20250407T100000
DTEND;TZID=America/Los_Angeles:20250407T170000
DTSTAMP:20260424T152401
CREATED:20250407T174611Z
LAST-MODIFIED:20250407T174612Z
UID:10000529-1744020000-1744045200@curiodyssey.org
SUMMARY:Open for Spring Break
DESCRIPTION:
URL:https://curiodyssey.org/event/open-for-spring-break/
LOCATION:CA
CATEGORIES:Special Hours
END:VEVENT
END:VCALENDAR