BEGIN:VCALENDAR
VERSION:2.0
PRODID:-//CuriOdyssey - ECPv6.15.4//NONSGML v1.0//EN
CALSCALE:GREGORIAN
METHOD:PUBLISH
X-WR-CALNAME:CuriOdyssey
X-ORIGINAL-URL:https://curiodyssey.org
X-WR-CALDESC:Events for CuriOdyssey
REFRESH-INTERVAL;VALUE=DURATION:PT1H
X-Robots-Tag:noindex
X-PUBLISHED-TTL:PT1H
BEGIN:VTIMEZONE
TZID:America/Los_Angeles
BEGIN:DAYLIGHT
TZOFFSETFROM:-0800
TZOFFSETTO:-0700
TZNAME:PDT
DTSTART:20250309T100000
END:DAYLIGHT
BEGIN:STANDARD
TZOFFSETFROM:-0700
TZOFFSETTO:-0800
TZNAME:PST
DTSTART:20251102T090000
END:STANDARD
END:VTIMEZONE
BEGIN:VEVENT
DTSTART;TZID=America/Los_Angeles:20250101T000000
DTEND;TZID=America/Los_Angeles:20250101T235959
DTSTAMP:20260424T203920
CREATED:20240831T000316Z
LAST-MODIFIED:20240831T000317Z
UID:10000458-1735689600-1735775999@curiodyssey.org
SUMMARY:Closed New Year's Day
DESCRIPTION:
URL:https://curiodyssey.org/event/closed-new-years-day/2025-01-01/
LOCATION:CA
CATEGORIES:Special Hours
END:VEVENT
BEGIN:VEVENT
DTSTART;TZID=America/Los_Angeles:20250103T170000
DTEND;TZID=America/Los_Angeles:20250103T200000
DTSTAMP:20260424T203920
CREATED:20240830T205802Z
LAST-MODIFIED:20250221T225239Z
UID:10000391-1735923600-1735934400@curiodyssey.org
SUMMARY:First Friday Nights
DESCRIPTION:Swing into the weekend with live music\, a food truck\, animals\, and fun! On the first Friday of every month\, from 5 PM until 8 PM\, parents and kids celebrate together at CuriOdyssey. \n\n\n\nDance to some of your favorite pop and rock hits\, while enjoying animal presentations and science activities. Activities and programs are different each time\, so make it a monthly tradition!
URL:https://curiodyssey.org/event/first-friday-nights-5/2025-01-03/
LOCATION:CA
CATEGORIES:Special Hours
ATTACH;FMTTYPE=image/jpeg:https://curiodyssey.org/wp-content/uploads/2024/08/4.jpg
END:VEVENT
BEGIN:VEVENT
DTSTART;TZID=America/Los_Angeles:20250120T100000
DTEND;TZID=America/Los_Angeles:20250120T170000
DTSTAMP:20260424T203920
CREATED:20240830T201621Z
LAST-MODIFIED:20240830T201622Z
UID:10000370-1737367200-1737392400@curiodyssey.org
SUMMARY:Open Martin Luther King\, Jr. Day
DESCRIPTION:
URL:https://curiodyssey.org/event/open-martin-luther-king-jr-day/2025-01-20/
LOCATION:CA
CATEGORIES:Special Hours
END:VEVENT
END:VCALENDAR