BEGIN:VCALENDAR
VERSION:2.0
PRODID:-//CuriOdyssey - ECPv6.15.4//NONSGML v1.0//EN
CALSCALE:GREGORIAN
METHOD:PUBLISH
X-WR-CALNAME:CuriOdyssey
X-ORIGINAL-URL:https://curiodyssey.org
X-WR-CALDESC:Events for CuriOdyssey
REFRESH-INTERVAL;VALUE=DURATION:PT1H
X-Robots-Tag:noindex
X-PUBLISHED-TTL:PT1H
BEGIN:VTIMEZONE
TZID:America/Los_Angeles
BEGIN:DAYLIGHT
TZOFFSETFROM:-0800
TZOFFSETTO:-0700
TZNAME:PDT
DTSTART:20260308T100000
END:DAYLIGHT
BEGIN:STANDARD
TZOFFSETFROM:-0700
TZOFFSETTO:-0800
TZNAME:PST
DTSTART:20261101T090000
END:STANDARD
END:VTIMEZONE
BEGIN:VEVENT
DTSTART;TZID=America/Los_Angeles:20260423T103000
DTEND;TZID=America/Los_Angeles:20260423T110000
DTSTAMP:20260423T195036
CREATED:20260327T193747Z
LAST-MODIFIED:20260416T003057Z
UID:10000607-1776940200-1776942000@curiodyssey.org
SUMMARY:Earth Month: Interactive Story Time
DESCRIPTION:Gather around for stories that spark curiosity about nature and the animals we share our world with. Our educators bring science and storytelling together with interactive moments that invite young explorers to ask questions\, move\, and imagine. Perfect for budding scientists and nature lovers. \n\n\n\nCheck the front desk or our digital map for times\, daily offerings\, and locations\, as these are subject to change.
URL:https://curiodyssey.org/event/earth-month-interactive-storytime/2026-04-23/
CATEGORIES:Earth Month
END:VEVENT
BEGIN:VEVENT
DTSTART;TZID=America/Los_Angeles:20260423T110000
DTEND;TZID=America/Los_Angeles:20260423T120000
DTSTAMP:20260423T195036
CREATED:20260413T211809Z
LAST-MODIFIED:20260413T211810Z
UID:10000615-1776942000-1776945600@curiodyssey.org
SUMMARY:Protect Our Raptors: How You Can Help
DESCRIPTION:Did you know that the hawks and owls soaring over our neighborhoods are in danger and that we can help protect them? Come meet two incredible wildlife experts who have dedicated their lives to keeping these magnificent birds safe! \n\n\n\nLisa Owens Viani\, Executive Director of Raptors Are The Solution\, and Allen Fish\, former Director of the Golden Gate Raptor Observatory\, will share fascinating insights into raptor ecology\, the hidden dangers that rodenticides pose to birds of prey\, and the positive steps we can all take to make our communities safer for these amazing animals. \n\n\n\nAnd here’s a fun bit of local history\, Allen’s lifelong love of raptors was sparked right here at CuriOdyssey by a close encounter with a great horned owl as a kid. Now he’s one of the leading voices in raptor conservation. Pretty cool\, right? \n\n\n\nPerfect for little nature explorers and their grown-ups. You might just leave inspired to make your own backyard a little more raptor-friendly!
URL:https://curiodyssey.org/event/protect-our-raptors-how-you-can-help/
CATEGORIES:Earth Month
END:VEVENT
BEGIN:VEVENT
DTSTART;TZID=America/Los_Angeles:20260423T143000
DTEND;TZID=America/Los_Angeles:20260423T150000
DTSTAMP:20260423T195036
CREATED:20260327T194153Z
LAST-MODIFIED:20260330T190420Z
UID:10000611-1776954600-1776956400@curiodyssey.org
SUMMARY:Science in Action
DESCRIPTION:See science come to life during Earth Month. Join our educators for special conservation themed demonstrations that reveal how scientists study\, protect\, and care for the natural world. Each day features hands on experiments and surprising discoveries for curious minds of all ages. Stop by\, watch the science unfold\, and ask questions along the way. \n\n\n\nCheck the front desk or our digital map for times\, daily offerings\, and locations\, as these are subject to change.
URL:https://curiodyssey.org/event/science-in-action/2026-04-23/
CATEGORIES:Earth Month
END:VEVENT
END:VCALENDAR