BEGIN:VCALENDAR
VERSION:2.0
PRODID:-//CuriOdyssey - ECPv6.15.4//NONSGML v1.0//EN
CALSCALE:GREGORIAN
METHOD:PUBLISH
X-WR-CALNAME:CuriOdyssey
X-ORIGINAL-URL:https://curiodyssey.org
X-WR-CALDESC:Events for CuriOdyssey
REFRESH-INTERVAL;VALUE=DURATION:PT1H
X-Robots-Tag:noindex
X-PUBLISHED-TTL:PT1H
BEGIN:VTIMEZONE
TZID:America/Los_Angeles
BEGIN:DAYLIGHT
TZOFFSETFROM:-0800
TZOFFSETTO:-0700
TZNAME:PDT
DTSTART:20260308T100000
END:DAYLIGHT
BEGIN:STANDARD
TZOFFSETFROM:-0700
TZOFFSETTO:-0800
TZNAME:PST
DTSTART:20261101T090000
END:STANDARD
END:VTIMEZONE
BEGIN:VEVENT
DTSTART;TZID=America/Los_Angeles:20260421T110000
DTEND;TZID=America/Los_Angeles:20260421T120000
DTSTAMP:20260421T033327
CREATED:20260327T195736Z
LAST-MODIFIED:20260327T195737Z
UID:10000613-1776769200-1776772800@curiodyssey.org
SUMMARY:Meet a Wildlife Scientist
DESCRIPTION:Did you know mountain lions are roaming the hills right here in the Bay Area? Come meet Alys Granados\, Wildlife Ecologist for the Felidae Conservation Fund\, an organization dedicated to protecting wild cats and their habitats\, and hear all about her incredible work tracking and studying these majestic big cats up close! \n\n\n\nAlys will share amazing stories and discoveries from the Bay Area Puma Project\, giving us a rare peek into the secret lives of mountain lions living alongside our communities. \n\n\n\nPerfect for little nature explorers and their grown-ups. You might just leave looking a little more carefully at those open hillsides!
URL:https://curiodyssey.org/event/meet-a-wildlife-scientist/
CATEGORIES:Earth Month
END:VEVENT
END:VCALENDAR